BEGIN:VCALENDAR
VERSION:2.0
PRODID:-//Dunamis Power Christian Fellowship Church - ECPv6.15.1.1//NONSGML v1.0//EN
CALSCALE:GREGORIAN
METHOD:PUBLISH
X-ORIGINAL-URL:https://dunamispcf.com
X-WR-CALDESC:Events for Dunamis Power Christian Fellowship Church
REFRESH-INTERVAL;VALUE=DURATION:PT1H
X-Robots-Tag:noindex
X-PUBLISHED-TTL:PT1H
BEGIN:VTIMEZONE
TZID:UTC
BEGIN:STANDARD
TZOFFSETFROM:+0000
TZOFFSETTO:+0000
TZNAME:UTC
DTSTART:20240101T000000
END:STANDARD
END:VTIMEZONE
BEGIN:VEVENT
DTSTART;TZID=UTC:20240519T100000
DTEND;TZID=UTC:20240519T113000
DTSTAMP:20260421T090400
CREATED:20240505T022807Z
LAST-MODIFIED:20240505T022807Z
UID:21294-1716112800-1716118200@dunamispcf.com
SUMMARY:Pentecost Sunday ✝️
DESCRIPTION:Join us on Pentecost Sunday May 19\,2024 \n2700 Little Mountain Dr Build. G (The God building) San Bernardino Ca 92407 at 10am. \nDon’t Forget to wear White.
URL:https://dunamispcf.com/event/pentecost-sunday-%e2%9c%9d%ef%b8%8f/
ATTACH;FMTTYPE=image/jpeg:https://dunamispcf.com/wp-content/uploads/2024/05/IMG_5972.jpeg
END:VEVENT
BEGIN:VEVENT
DTSTART;TZID=UTC:20240512T100000
DTEND;TZID=UTC:20240512T113000
DTSTAMP:20260421T090400
CREATED:20240505T025449Z
LAST-MODIFIED:20240505T033812Z
UID:21299-1715508000-1715513400@dunamispcf.com
SUMMARY:Mother’s Day Service
DESCRIPTION:Come and celebrate our mothers together May 12\,2024 at Dunamis Power Christian Fellowship \n2700 Little Mountain Dr. Build. G (The God Building)  San Bernardino 92407 at 10am
URL:https://dunamispcf.com/event/mothers-day-service/
ATTACH;FMTTYPE=image/jpeg:https://dunamispcf.com/wp-content/uploads/2024/05/IMG_5973.jpeg
END:VEVENT
BEGIN:VEVENT
DTSTART;VALUE=DATE:20240507
DTEND;VALUE=DATE:20240508
DTSTAMP:20260421T090400
CREATED:20240505T024631Z
LAST-MODIFIED:20240505T034038Z
UID:21297-1715040000-1715126399@dunamispcf.com
SUMMARY:Fishers of Fish\, Fishers of Men
DESCRIPTION:Fishers of Fish and Fishers of Men are going out on Tuesday and Friday\, DM DPCF for information dpcf@dunamispcf.com
URL:https://dunamispcf.com/event/fishers-of-fish-fishers-of-men/
ATTACH;FMTTYPE=image/jpeg:https://dunamispcf.com/wp-content/uploads/2024/02/Ra99f2d7bd969bf5ca40b7967ec097e7f1.jpg
END:VEVENT
END:VCALENDAR